BEGIN:VCALENDAR
VERSION:2.0
PRODID:-//St. Lucas Museum - ECPv6.15.20//NONSGML v1.0//EN
CALSCALE:GREGORIAN
METHOD:PUBLISH
X-WR-CALNAME:St. Lucas Museum
X-ORIGINAL-URL:https://stlucasmuseum.org
X-WR-CALDESC:Events for St. Lucas Museum
REFRESH-INTERVAL;VALUE=DURATION:PT1H
X-Robots-Tag:noindex
X-PUBLISHED-TTL:PT1H
BEGIN:VTIMEZONE
TZID:America/Chicago
BEGIN:DAYLIGHT
TZOFFSETFROM:-0600
TZOFFSETTO:-0500
TZNAME:CDT
DTSTART:20250309T080000
END:DAYLIGHT
BEGIN:STANDARD
TZOFFSETFROM:-0500
TZOFFSETTO:-0600
TZNAME:CST
DTSTART:20251102T070000
END:STANDARD
BEGIN:DAYLIGHT
TZOFFSETFROM:-0600
TZOFFSETTO:-0500
TZNAME:CDT
DTSTART:20260308T080000
END:DAYLIGHT
BEGIN:STANDARD
TZOFFSETFROM:-0500
TZOFFSETTO:-0600
TZNAME:CST
DTSTART:20261101T070000
END:STANDARD
BEGIN:DAYLIGHT
TZOFFSETFROM:-0600
TZOFFSETTO:-0500
TZNAME:CDT
DTSTART:20270314T080000
END:DAYLIGHT
BEGIN:STANDARD
TZOFFSETFROM:-0500
TZOFFSETTO:-0600
TZNAME:CST
DTSTART:20271107T070000
END:STANDARD
END:VTIMEZONE
BEGIN:VEVENT
DTSTART;TZID=America/Chicago:20260411T100000
DTEND;TZID=America/Chicago:20260411T140000
DTSTAMP:20260424T073632
CREATED:20260211T014018Z
LAST-MODIFIED:20260211T014922Z
UID:3722-1775901600-1775916000@stlucasmuseum.org
SUMMARY:Virtual Workshop: “Learn to Read the Old German Script: Letters and Personal Documents”
DESCRIPTION:Join us April 11\, 2026\, at 10 am – 2 pm CT\n\n\n\nVIRTUAL LECTURE\n“Learn to Read the Old German Script: Letters and Personal Documents”\nwith Mark L. Louden and Antje Petty\n\n\nRegistration is required by April 9th. You will receive a Zoom link\, and workshop materials will be emailed to you on April 10\, 2026. If you have not yet registered\, register here.\n\n  \n\nThis workshop is cosponsored by The Friends of the Max Kade Institute and the Wisconsin Historical Society.   
URL:https://stlucasmuseum.org/event/virtual-workshop-learn-to-read-the-old-german-script-letters-and-personal-documents/
LOCATION:Zoom Link
CATEGORIES:Related Events from other Organizations
ORGANIZER;CN="Max Kade Institute for German-American Studies":MAILTO:apetty@wisc.edu
END:VEVENT
END:VCALENDAR